BEGIN:VCALENDAR
VERSION:2.0
PRODID:icalendar-ruby
CALSCALE:GREGORIAN
METHOD:PUBLISH
BEGIN:VEVENT
DTSTAMP:20260422T113820Z
UID:11-1062369@fbcthermopolis.org
DTSTART:20261101T180000Z
DTEND:20261101T190000Z
CLASS:PUBLIC
CREATED:20260421T184052
DESCRIPTION:Join us for our Regular Sunday Morning Service!
LAST-MODIFIED:20260421T184052
LOCATION:
SUMMARY:Sunday Morning Service
URL;VALUE=URI:https://fbcthermopolis.org/events/sunday-morning-service--10/
 2026-11-01
END:VEVENT
END:VCALENDAR
