BEGIN:VCALENDAR
VERSION:2.0
PRODID:icalendar-ruby
CALSCALE:GREGORIAN
METHOD:PUBLISH
BEGIN:VEVENT
DTSTAMP:20260420T065006Z
UID:13-1053253@fbcthermopolis.org
DTSTART:20261015T010000Z
DTEND:20261015T020000Z
CLASS:PUBLIC
CREATED:20260420T003554
DESCRIPTION:A time for all ages! We offer a Wednesday Kids Bible Study\, Te
 en Bible Study\, and an Adult Bible Study. This is a great "pit-stop" in t
 he middle of your week.
LAST-MODIFIED:20260420T003554
LOCATION:
SUMMARY:Wednesday Bible Study
URL;VALUE=URI:https://fbcthermopolis.org/events/wednesday-bible-study--13/2
 026-10-14
END:VEVENT
END:VCALENDAR
